Workbook

Sheet Dashboard
A1: Clientbook
A2: Everything you are owed and everything you are working on, from the three sheets behind this one.
A4: Invoiced, all time | B4: =SUM(Invoices!E2:E201)
A5: Paid | B5: =SUMIFS(Invoices!E2:E201,Invoices!H2:H201,"Paid")
A6: Waiting to be paid (not yet due) | B6: =SUMIFS(Invoices!E2:E201,Invoices!H2:H201,"Sent")
A7: Overdue | B7: =SUMIFS(Invoices!E2:E201,Invoices!H2:H201,"Overdue")
A8: Overdue invoices | B8: =COUNTIF(Invoices!H2:H201,"Overdue")
A9: Active projects | B9: =COUNTIF(Projects!C2:C201,"Active")
A10: Leads | B10: =COUNTIF(Projects!C2:C201,"Lead")
A11: Fees agreed but not yet invoiced (active projects) | B11: =SUMIFS(Projects!H2:H201,Projects!C2:C201,"Active")
A13: Paid per month, this year
A14: January | B14: =SUMIFS(Invoices!E2:E201,Invoices!G2:G201,">="&DATE(YEAR(TODAY()),1,1),Invoices!G2:G201,"<"&DATE(YEAR(TODAY()),2,1))
A15: February | B15: =SUMIFS(Invoices!E2:E201,Invoices!G2:G201,">="&DATE(YEAR(TODAY()),2,1),Invoices!G2:G201,"<"&DATE(YEAR(TODAY()),3,1))
A16: March | B16: =SUMIFS(Invoices!E2:E201,Invoices!G2:G201,">="&DATE(YEAR(TODAY()),3,1),Invoices!G2:G201,"<"&DATE(YEAR(TODAY()),4,1))
A17: April | B17: =SUMIFS(Invoices!E2:E201,Invoices!G2:G201,">="&DATE(YEAR(TODAY()),4,1),Invoices!G2:G201,"<"&DATE(YEAR(TODAY()),5,1))
A18: May | B18: =SUMIFS(Invoices!E2:E201,Invoices!G2:G201,">="&DATE(YEAR(TODAY()),5,1),Invoices!G2:G201,"<"&DATE(YEAR(TODAY()),6,1))
A19: June | B19: =SUMIFS(Invoices!E2:E201,Invoices!G2:G201,">="&DATE(YEAR(TODAY()),6,1),Invoices!G2:G201,"<"&DATE(YEAR(TODAY()),7,1))
A20: July | B20: =SUMIFS(Invoices!E2:E201,Invoices!G2:G201,">="&DATE(YEAR(TODAY()),7,1),Invoices!G2:G201,"<"&DATE(YEAR(TODAY()),8,1))
A21: August | B21: =SUMIFS(Invoices!E2:E201,Invoices!G2:G201,">="&DATE(YEAR(TODAY()),8,1),Invoices!G2:G201,"<"&DATE(YEAR(TODAY()),9,1))
A22: September | B22: =SUMIFS(Invoices!E2:E201,Invoices!G2:G201,">="&DATE(YEAR(TODAY()),9,1),Invoices!G2:G201,"<"&DATE(YEAR(TODAY()),10,1))
A23: October | B23: =SUMIFS(Invoices!E2:E201,Invoices!G2:G201,">="&DATE(YEAR(TODAY()),10,1),Invoices!G2:G201,"<"&DATE(YEAR(TODAY()),11,1))
A24: November | B24: =SUMIFS(Invoices!E2:E201,Invoices!G2:G201,">="&DATE(YEAR(TODAY()),11,1),Invoices!G2:G201,"<"&DATE(YEAR(TODAY()),12,1))
A25: December | B25: =SUMIFS(Invoices!E2:E201,Invoices!G2:G201,">="&DATE(YEAR(TODAY()),12,1),Invoices!G2:G201,"<"&DATE(YEAR(TODAY()),13,1))
A26: Total this year | B26: =SUM(B14:B25)

Sheet Clients
A1: Client | B1: Contact | C1: Email | D1: Notes | E1: Projects | F1: Invoiced | G1: Paid | H1: Owed
A2: Example: Fern & Co | B2: Sam | C2: sam@example.com | D2: Example row, type over it | E2: =IF($A2="","",COUNTIF(Projects!$B:$B,$A2)) | F2: =IF($A2="","",SUMIFS(Invoices!$E:$E,Invoices!$B:$B,$A2)) | G2: =IF($A2="","",SUMIFS(Invoices!$E:$E,Invoices!$B:$B,$A2,Invoices!$H:$H,"Paid")) | H2: =IF($A2="","",F2-G2)
A3: Example: Northgate Studio | B3: Priya | C3: priya@example.com | E3: =IF($A3="","",COUNTIF(Projects!$B:$B,$A3)) | F3: =IF($A3="","",SUMIFS(Invoices!$E:$E,Invoices!$B:$B,$A3)) | G3: =IF($A3="","",SUMIFS(Invoices!$E:$E,Invoices!$B:$B,$A3,Invoices!$H:$H,"Paid")) | H3: =IF($A3="","",F3-G3)
E4: =IF($A4="","",COUNTIF(Projects!$B:$B,$A4)) | F4: =IF($A4="","",SUMIFS(Invoices!$E:$E,Invoices!$B:$B,$A4)) | G4: =IF($A4="","",SUMIFS(Invoices!$E:$E,Invoices!$B:$B,$A4,Invoices!$H:$H,"Paid")) | H4: =IF($A4="","",F4-G4)
E5: =IF($A5="","",COUNTIF(Projects!$B:$B,$A5)) | F5: =IF($A5="","",SUMIFS(Invoices!$E:$E,Invoices!$B:$B,$A5)) | G5: =IF($A5="","",SUMIFS(Invoices!$E:$E,Invoices!$B:$B,$A5,Invoices!$H:$H,"Paid")) | H5: =IF($A5="","",F5-G5)
E6: =IF($A6="","",COUNTIF(Projects!$B:$B,$A6)) | F6: =IF($A6="","",SUMIFS(Invoices!$E:$E,Invoices!$B:$B,$A6)) | G6: =IF($A6="","",SUMIFS(Invoices!$E:$E,Invoices!$B:$B,$A6,Invoices!$H:$H,"Paid")) | H6: =IF($A6="","",F6-G6)
E7: =IF($A7="","",COUNTIF(Projects!$B:$B,$A7)) | F7: =IF($A7="","",SUMIFS(Invoices!$E:$E,Invoices!$B:$B,$A7)) | G7: =IF($A7="","",SUMIFS(Invoices!$E:$E,Invoices!$B:$B,$A7,Invoices!$H:$H,"Paid")) | H7: =IF($A7="","",F7-G7)
E8: =IF($A8="","",COUNTIF(Projects!$B:$B,$A8)) | F8: =IF($A8="","",SUMIFS(Invoices!$E:$E,Invoices!$B:$B,$A8)) | G8: =IF($A8="","",SUMIFS(Invoices!$E:$E,Invoices!$B:$B,$A8,Invoices!$H:$H,"Paid")) | H8: =IF($A8="","",F8-G8)
E9: =IF($A9="","",COUNTIF(Projects!$B:$B,$A9)) | F9: =IF($A9="","",SUMIFS(Invoices!$E:$E,Invoices!$B:$B,$A9)) | G9: =IF($A9="","",SUMIFS(Invoices!$E:$E,Invoices!$B:$B,$A9,Invoices!$H:$H,"Paid")) | H9: =IF($A9="","",F9-G9)
E10: =IF($A10="","",COUNTIF(Projects!$B:$B,$A10)) | F10: =IF($A10="","",SUMIFS(Invoices!$E:$E,Invoices!$B:$B,$A10)) | G10: =IF($A10="","",SUMIFS(Invoices!$E:$E,Invoices!$B:$B,$A10,Invoices!$H:$H,"Paid")) | H10: =IF($A10="","",F10-G10)
E11: =IF($A11="","",COUNTIF(Projects!$B:$B,$A11)) | F11: =IF($A11="","",SUMIFS(Invoices!$E:$E,Invoices!$B:$B,$A11)) | G11: =IF($A11="","",SUMIFS(Invoices!$E:$E,Invoices!$B:$B,$A11,Invoices!$H:$H,"Paid")) | H11: =IF($A11="","",F11-G11)
E12: =IF($A12="","",COUNTIF(Projects!$B:$B,$A12)) | F12: =IF($A12="","",SUMIFS(Invoices!$E:$E,Invoices!$B:$B,$A12)) | G12: =IF($A12="","",SUMIFS(Invoices!$E:$E,Invoices!$B:$B,$A12,Invoices!$H:$H,"Paid")) | H12: =IF($A12="","",F12-G12)
E13: =IF($A13="","",COUNTIF(Projects!$B:$B,$A13)) | F13: =IF($A13="","",SUMIFS(Invoices!$E:$E,Invoices!$B:$B,$A13)) | G13: =IF($A13="","",SUMIFS(Invoices!$E:$E,Invoices!$B:$B,$A13,Invoices!$H:$H,"Paid")) | H13: =IF($A13="","",F13-G13)
E14: =IF($A14="","",COUNTIF(Projects!$B:$B,$A14)) | F14: =IF($A14="","",SUMIFS(Invoices!$E:$E,Invoices!$B:$B,$A14)) | G14: =IF($A14="","",SUMIFS(Invoices!$E:$E,Invoices!$B:$B,$A14,Invoices!$H:$H,"Paid")) | H14: =IF($A14="","",F14-G14)
E15: =IF($A15="","",COUNTIF(Projects!$B:$B,$A15)) | F15: =IF($A15="","",SUMIFS(Invoices!$E:$E,Invoices!$B:$B,$A15)) | G15: =IF($A15="","",SUMIFS(Invoices!$E:$E,Invoices!$B:$B,$A15,Invoices!$H:$H,"Paid")) | H15: =IF($A15="","",F15-G15)
... E201: =IF($A201="","",COUNTIF(Projects!$B:$B,$A201)) | F201: =IF($A201="","",SUMIFS(Invoices!$E:$E,Invoices!$B:$B,$A201)) | G201: =IF($A201="","",SUMIFS(Invoices!$E:$E,Invoices!$B:$B,$A201,Invoices!$H:$H,"Paid")) | H201: =IF($A201="","",F201-G201)

Sheet Projects
A1: Project | B1: Client | C1: Status | D1: Start | E1: Due | F1: Fee | G1: Invoiced | H1: Left to invoice | I1: Notes
A2: Example: Brand refresh | B2: Example: Fern & Co | C2: Active | D2: 46266 | E2: 46315 | F2: 2400 | G2: =IF($A2="","",SUMIFS(Invoices!$E:$E,Invoices!$C:$C,$A2)) | H2: =IF(OR($A2="",$F2=""),"",$F2-G2)
A3: Example: Landing page | B3: Example: Northgate Studio | C3: Active | D3: 46280 | E3: 46295 | F3: 1500 | G3: =IF($A3="","",SUMIFS(Invoices!$E:$E,Invoices!$C:$C,$A3)) | H3: =IF(OR($A3="",$F3=""),"",$F3-G3)
G4: =IF($A4="","",SUMIFS(Invoices!$E:$E,Invoices!$C:$C,$A4)) | H4: =IF(OR($A4="",$F4=""),"",$F4-G4)
G5: =IF($A5="","",SUMIFS(Invoices!$E:$E,Invoices!$C:$C,$A5)) | H5: =IF(OR($A5="",$F5=""),"",$F5-G5)
G6: =IF($A6="","",SUMIFS(Invoices!$E:$E,Invoices!$C:$C,$A6)) | H6: =IF(OR($A6="",$F6=""),"",$F6-G6)
G7: =IF($A7="","",SUMIFS(Invoices!$E:$E,Invoices!$C:$C,$A7)) | H7: =IF(OR($A7="",$F7=""),"",$F7-G7)
G8: =IF($A8="","",SUMIFS(Invoices!$E:$E,Invoices!$C:$C,$A8)) | H8: =IF(OR($A8="",$F8=""),"",$F8-G8)
G9: =IF($A9="","",SUMIFS(Invoices!$E:$E,Invoices!$C:$C,$A9)) | H9: =IF(OR($A9="",$F9=""),"",$F9-G9)
G10: =IF($A10="","",SUMIFS(Invoices!$E:$E,Invoices!$C:$C,$A10)) | H10: =IF(OR($A10="",$F10=""),"",$F10-G10)
G11: =IF($A11="","",SUMIFS(Invoices!$E:$E,Invoices!$C:$C,$A11)) | H11: =IF(OR($A11="",$F11=""),"",$F11-G11)
G12: =IF($A12="","",SUMIFS(Invoices!$E:$E,Invoices!$C:$C,$A12)) | H12: =IF(OR($A12="",$F12=""),"",$F12-G12)
G13: =IF($A13="","",SUMIFS(Invoices!$E:$E,Invoices!$C:$C,$A13)) | H13: =IF(OR($A13="",$F13=""),"",$F13-G13)
G14: =IF($A14="","",SUMIFS(Invoices!$E:$E,Invoices!$C:$C,$A14)) | H14: =IF(OR($A14="",$F14=""),"",$F14-G14)
G15: =IF($A15="","",SUMIFS(Invoices!$E:$E,Invoices!$C:$C,$A15)) | H15: =IF(OR($A15="",$F15=""),"",$F15-G15)
... G201: =IF($A201="","",SUMIFS(Invoices!$E:$E,Invoices!$C:$C,$A201)) | H201: =IF(OR($A201="",$F201=""),"",$F201-G201)

Sheet Invoices
A1: Invoice # | B1: Client | C1: Project | D1: Issued | E1: Amount | F1: Due | G1: Paid on | H1: Status | I1: Days late
A2: 1001 | B2: Example: Fern & Co | C2: Example: Brand refresh | D2: 46266 | E2: 1200 | F2: =IF($D2="","",$D2+Settings!$B$2) | G2: 46275 | H2: =IF($A2="","",IF($G2<>"","Paid",IF($F2<TODAY(),"Overdue","Sent"))) | I2: =IF(H2="Overdue",TODAY()-F2,"")
A3: 1002 | B3: Example: Northgate Studio | C3: Example: Landing page | D3: 46280 | E3: 750 | F3: =IF($D3="","",$D3+Settings!$B$2) | H3: =IF($A3="","",IF($G3<>"","Paid",IF($F3<TODAY(),"Overdue","Sent"))) | I3: =IF(H3="Overdue",TODAY()-F3,"")
A4: 1003 | B4: Example: Fern & Co | C4: Example: Brand refresh | D4: 46295 | E4: 600 | F4: =IF($D4="","",$D4+Settings!$B$2) | H4: =IF($A4="","",IF($G4<>"","Paid",IF($F4<TODAY(),"Overdue","Sent"))) | I4: =IF(H4="Overdue",TODAY()-F4,"")
F5: =IF($D5="","",$D5+Settings!$B$2) | H5: =IF($A5="","",IF($G5<>"","Paid",IF($F5<TODAY(),"Overdue","Sent"))) | I5: =IF(H5="Overdue",TODAY()-F5,"")
F6: =IF($D6="","",$D6+Settings!$B$2) | H6: =IF($A6="","",IF($G6<>"","Paid",IF($F6<TODAY(),"Overdue","Sent"))) | I6: =IF(H6="Overdue",TODAY()-F6,"")
F7: =IF($D7="","",$D7+Settings!$B$2) | H7: =IF($A7="","",IF($G7<>"","Paid",IF($F7<TODAY(),"Overdue","Sent"))) | I7: =IF(H7="Overdue",TODAY()-F7,"")
F8: =IF($D8="","",$D8+Settings!$B$2) | H8: =IF($A8="","",IF($G8<>"","Paid",IF($F8<TODAY(),"Overdue","Sent"))) | I8: =IF(H8="Overdue",TODAY()-F8,"")
F9: =IF($D9="","",$D9+Settings!$B$2) | H9: =IF($A9="","",IF($G9<>"","Paid",IF($F9<TODAY(),"Overdue","Sent"))) | I9: =IF(H9="Overdue",TODAY()-F9,"")
F10: =IF($D10="","",$D10+Settings!$B$2) | H10: =IF($A10="","",IF($G10<>"","Paid",IF($F10<TODAY(),"Overdue","Sent"))) | I10: =IF(H10="Overdue",TODAY()-F10,"")
F11: =IF($D11="","",$D11+Settings!$B$2) | H11: =IF($A11="","",IF($G11<>"","Paid",IF($F11<TODAY(),"Overdue","Sent"))) | I11: =IF(H11="Overdue",TODAY()-F11,"")
F12: =IF($D12="","",$D12+Settings!$B$2) | H12: =IF($A12="","",IF($G12<>"","Paid",IF($F12<TODAY(),"Overdue","Sent"))) | I12: =IF(H12="Overdue",TODAY()-F12,"")
F13: =IF($D13="","",$D13+Settings!$B$2) | H13: =IF($A13="","",IF($G13<>"","Paid",IF($F13<TODAY(),"Overdue","Sent"))) | I13: =IF(H13="Overdue",TODAY()-F13,"")
F14: =IF($D14="","",$D14+Settings!$B$2) | H14: =IF($A14="","",IF($G14<>"","Paid",IF($F14<TODAY(),"Overdue","Sent"))) | I14: =IF(H14="Overdue",TODAY()-F14,"")
F15: =IF($D15="","",$D15+Settings!$B$2) | H15: =IF($A15="","",IF($G15<>"","Paid",IF($F15<TODAY(),"Overdue","Sent"))) | I15: =IF(H15="Overdue",TODAY()-F15,"")
F16: =IF($D16="","",$D16+Settings!$B$2) | H16: =IF($A16="","",IF($G16<>"","Paid",IF($F16<TODAY(),"Overdue","Sent"))) | I16: =IF(H16="Overdue",TODAY()-F16,"")
... F201: =IF($D201="","",$D201+Settings!$B$2) | H201: =IF($A201="","",IF($G201<>"","Paid",IF($F201<TODAY(),"Overdue","Sent"))) | I201: =IF(H201="Overdue",TODAY()-F201,"")

Sheet Settings
A1: Setting | B1: Value
A2: Payment terms (days until an invoice is due) | B2: 14
A3: Currency symbol (display only) | B3: $
A5: Change the terms and every due date and overdue flag follows.
